BEGIN:VCALENDAR
VERSION:2.0
PRODID:-//FDM Business School - ECPv6.15.20//NONSGML v1.0//EN
CALSCALE:GREGORIAN
METHOD:PUBLISH
X-ORIGINAL-URL:https://fdm-businessschool.fr
X-WR-CALDESC:Évènements pour FDM Business School
REFRESH-INTERVAL;VALUE=DURATION:PT1H
X-Robots-Tag:noindex
X-PUBLISHED-TTL:PT1H
BEGIN:VTIMEZONE
TZID:UTC
BEGIN:STANDARD
TZOFFSETFROM:+0000
TZOFFSETTO:+0000
TZNAME:UTC
DTSTART:20160101T000000
END:STANDARD
END:VTIMEZONE
BEGIN:VEVENT
DTSTART;TZID=UTC:20230619T080000
DTEND;TZID=UTC:20230619T170000
DTSTAMP:20260421T133105
CREATED:20230619T062350Z
LAST-MODIFIED:20230619T062351Z
UID:17981-1687161600-1687194000@fdm-businessschool.fr
SUMMARY:UN NOUVEAU PARTENARIAT
DESCRIPTION:Nous sommes heureux de vous annoncer la signature du partenariat entre FDM BUSINESS SCHOOL et BNP PARIBAS. \nCe partenariat est une reconnaissance de la confiance instaurée entre notre école et la Banque. \nNous pouvons d’ores et déjà vous annoncer que BNP PARIBAS sera présente début septembre pour rencontrer nos étudiants et leur présenter tous les métiers du secteur bancaire ! \nLa date de cette rencontre vous sera communiquée ultérieurement !
URL:https://fdm-businessschool.fr/event/un-nouveau-partenariat/
ATTACH;FMTTYPE=image/jpeg:https://fdm-businessschool.fr/wp-content/uploads/2023/06/BNP-Paribas-logo.jpg
END:VEVENT
BEGIN:VEVENT
DTSTART;VALUE=DATE:20180210
DTEND;VALUE=DATE:20180211
DTSTAMP:20260421T133105
CREATED:20160704T220000Z
LAST-MODIFIED:20160704T220000Z
UID:10800-1518220800-1518307199@fdm-businessschool.fr
SUMMARY:Presentation: Playing the Piano
DESCRIPTION:Cras dapibus ullamcorper dictum. Vivamus nec erat placerat felis scelerisque porttitor in ac turpis. In nec imperdiet turpis. Suspendisse quis orci ut orci pulvinar eleifend. Nulla eu mattis ipsum. Integer eget sagittis nulla. Praesent consectetur lacus et maximus eleifend. Integer non lacus dui. Mauris tortor diam\, laoreet quis commodo vitae\, sodales vel augue.| Sed rutrum\, libero non pretium tristique\, arcu mi sollicitudin ex\, quis venenatis orci tellus vel dolor. Donec gravida\, dolor ut auctor facilisis\, enim dolor pellentesque lectus\, nec vehicula nibh risus ac leo. Mauris volutpat aliquam tellus nec rhoncus. Aliquam et nibh pulvinar\, sodales nibh et\, pretium urna. Vivamus quam augue\, maximus in consequat imperdiet\, iaculis non nibh. Aliquam erat volutpat. Curabitur venenatis massa sed lacus tristique\, non auctor nisl sodales. Sed ultricies lacus ut libero faucibus fringilla. Ut nisi tellus\, posuere vel mattis nec\, convallis a metus. Nullam elementum molestie felis nec lobortis. Cras at justo eu elit semper tempor sed quis orci. In risus magna\, malesuada vel elementum ut\, finibus et nunc. \n 
URL:https://fdm-businessschool.fr/event/presentation-classes-of-play-the-piano/
LOCATION:Schule\, 233 Main St.\, New York\, United States
CATEGORIES:Holidays
ATTACH;FMTTYPE=image/jpeg:https://fdm-businessschool.fr/wp-content/uploads/2017/12/05.jpg
ORGANIZER;CN="Nick Sims":MAILTO:sims@example.com
END:VEVENT
BEGIN:VEVENT
DTSTART;VALUE=DATE:20180201
DTEND;VALUE=DATE:20180202
DTSTAMP:20260421T133105
CREATED:20160717T220000Z
LAST-MODIFIED:20160717T220000Z
UID:10803-1517443200-1517529599@fdm-businessschool.fr
SUMMARY:United States Independence Day
DESCRIPTION:Cras dapibus ullamcorper dictum. Vivamus nec erat placerat felis scelerisque porttitor in ac turpis. In nec imperdiet turpis. Suspendisse quis orci ut orci pulvinar eleifend. Nulla eu mattis ipsum. Integer eget sagittis nulla. Praesent consectetur lacus et maximus eleifend. Integer non lacus dui. Mauris tortor diam\, laoreet quis commodo vitae\, sodales vel augue.| Sed rutrum\, libero non pretium tristique\, arcu mi sollicitudin ex\, quis venenatis orci tellus vel dolor. Donec gravida\, dolor ut auctor facilisis\, enim dolor pellentesque lectus\, nec vehicula nibh risus ac leo. Mauris volutpat aliquam tellus nec rhoncus. Aliquam et nibh pulvinar\, sodales nibh et\, pretium urna. Vivamus quam augue\, maximus in consequat imperdiet\, iaculis non nibh. Aliquam erat volutpat. Curabitur venenatis massa sed lacus tristique\, non auctor nisl sodales. Sed ultricies lacus ut libero faucibus fringilla. Ut nisi tellus\, posuere vel mattis nec\, convallis a metus. Nullam elementum molestie felis nec lobortis. Cras at justo eu elit semper tempor sed quis orci. In risus magna\, malesuada vel elementum ut\, finibus et nunc. \n 
URL:https://fdm-businessschool.fr/event/united-states-independence-day/
LOCATION:Schule\, 233 Main St.\, New York\, United States
CATEGORIES:Holidays
ATTACH;FMTTYPE=image/jpeg:https://fdm-businessschool.fr/wp-content/uploads/2017/12/04-Copy.jpg
ORGANIZER;CN="Nick Sims":MAILTO:sims@example.com
END:VEVENT
BEGIN:VEVENT
DTSTART;TZID=UTC:20180131T080000
DTEND;TZID=UTC:20180131T170000
DTSTAMP:20260421T133105
CREATED:20171009T080252Z
LAST-MODIFIED:20171009T080252Z
UID:13355-1517385600-1517418000@fdm-businessschool.fr
SUMMARY:Lecture:  Pedagogy and Place
DESCRIPTION:Cras dapibus ullamcorper dictum. Vivamus nec erat placerat felis scelerisque porttitor in ac turpis. In nec imperdiet turpis. Suspendisse quis orci ut orci pulvinar eleifend. Nulla eu mattis ipsum. Integer eget sagittis nulla. Praesent consectetur lacus et maximus eleifend. Integer non lacus dui. Mauris tortor diam\, laoreet quis commodo vitae\, sodales vel augue.| Sed rutrum\, libero non pretium tristique\, arcu mi sollicitudin ex\, quis venenatis orci tellus vel dolor. Donec gravida\, dolor ut auctor facilisis\, enim dolor pellentesque lectus\, nec vehicula nibh risus ac leo. Mauris volutpat aliquam tellus nec rhoncus. Aliquam et nibh pulvinar\, sodales nibh et\, pretium urna. Vivamus quam augue\, maximus in consequat imperdiet\, iaculis non nibh. Aliquam erat volutpat. Curabitur venenatis massa sed lacus tristique\, non auctor nisl sodales. Sed ultricies lacus ut libero faucibus fringilla. Ut nisi tellus\, posuere vel mattis nec\, convallis a metus. Nullam elementum molestie felis nec lobortis. Cras at justo eu elit semper tempor sed quis orci. In risus magna\, malesuada vel elementum ut\, finibus et nunc. \n 
URL:https://fdm-businessschool.fr/event/lecture-robert-a-m-stern-pedagogy-and-place/
LOCATION:Schule\, 233 Main St.\, New York\, United States
CATEGORIES:Olympiad
ATTACH;FMTTYPE=image/jpeg:https://fdm-businessschool.fr/wp-content/uploads/2017/12/05.jpg
ORGANIZER;CN="Nick Sims":MAILTO:sims@example.com
END:VEVENT
BEGIN:VEVENT
DTSTART;TZID=UTC:20180120T080000
DTEND;TZID=UTC:20180120T170000
DTSTAMP:20260421T133105
CREATED:20160630T220000Z
LAST-MODIFIED:20160630T220000Z
UID:10792-1516435200-1516467600@fdm-businessschool.fr
SUMMARY:Lecture: Empowerment
DESCRIPTION:Cras dapibus ullamcorper dictum. Vivamus nec erat placerat felis scelerisque porttitor in ac turpis. In nec imperdiet turpis. Suspendisse quis orci ut orci pulvinar eleifend. Nulla eu mattis ipsum. Integer eget sagittis nulla. Praesent consectetur lacus et maximus eleifend. Integer non lacus dui. Mauris tortor diam\, laoreet quis commodo vitae\, sodales vel augue.| Sed rutrum\, libero non pretium tristique\, arcu mi sollicitudin ex\, quis venenatis orci tellus vel dolor. Donec gravida\, dolor ut auctor facilisis\, enim dolor pellentesque lectus\, nec vehicula nibh risus ac leo. Mauris volutpat aliquam tellus nec rhoncus. Aliquam et nibh pulvinar\, sodales nibh et\, pretium urna. Vivamus quam augue\, maximus in consequat imperdiet\, iaculis non nibh. Aliquam erat volutpat. Curabitur venenatis massa sed lacus tristique\, non auctor nisl sodales. Sed ultricies lacus ut libero faucibus fringilla. Ut nisi tellus\, posuere vel mattis nec\, convallis a metus. Nullam elementum molestie felis nec lobortis. Cras at justo eu elit semper tempor sed quis orci. In risus magna\, malesuada vel elementum ut\, finibus et nunc. \n 
URL:https://fdm-businessschool.fr/event/lecture-stig-l-andersson-empowerment-of-aesthetics/
LOCATION:Schule\, 233 Main St.\, New York\, United States
CATEGORIES:University life
ATTACH;FMTTYPE=image/jpeg:https://fdm-businessschool.fr/wp-content/uploads/2017/12/06.jpg
ORGANIZER;CN="Nick Sims":MAILTO:sims@example.com
END:VEVENT
BEGIN:VEVENT
DTSTART;TZID=UTC:20180109T080000
DTEND;TZID=UTC:20180109T170000
DTSTAMP:20260421T133105
CREATED:20160725T220000Z
LAST-MODIFIED:20160725T220000Z
UID:10805-1515484800-1515517200@fdm-businessschool.fr
SUMMARY:Lecture:  Current Work
DESCRIPTION:Cras dapibus ullamcorper dictum. Vivamus nec erat placerat felis scelerisque porttitor in ac turpis. In nec imperdiet turpis. Suspendisse quis orci ut orci pulvinar eleifend. Nulla eu mattis ipsum. Integer eget sagittis nulla. Praesent consectetur lacus et maximus eleifend. Integer non lacus dui. Mauris tortor diam\, laoreet quis commodo vitae\, sodales vel augue.| Sed rutrum\, libero non pretium tristique\, arcu mi sollicitudin ex\, quis venenatis orci tellus vel dolor. Donec gravida\, dolor ut auctor facilisis\, enim dolor pellentesque lectus\, nec vehicula nibh risus ac leo. Mauris volutpat aliquam tellus nec rhoncus. Aliquam et nibh pulvinar\, sodales nibh et\, pretium urna. Vivamus quam augue\, maximus in consequat imperdiet\, iaculis non nibh. Aliquam erat volutpat. Curabitur venenatis massa sed lacus tristique\, non auctor nisl sodales. Sed ultricies lacus ut libero faucibus fringilla. Ut nisi tellus\, posuere vel mattis nec\, convallis a metus. Nullam elementum molestie felis nec lobortis. Cras at justo eu elit semper tempor sed quis orci. In risus magna\, malesuada vel elementum ut\, finibus et nunc. \n 
URL:https://fdm-businessschool.fr/event/lecture-zaha-hadid-current-work/
LOCATION:Schule\, 233 Main St.\, New York\, United States
CATEGORIES:University life
ATTACH;FMTTYPE=image/jpeg:https://fdm-businessschool.fr/wp-content/uploads/2017/12/02.jpg
ORGANIZER;CN="Nick Sims":MAILTO:sims@example.com
END:VEVENT
BEGIN:VEVENT
DTSTART;TZID=UTC:20171231T080000
DTEND;TZID=UTC:20171231T170000
DTSTAMP:20260421T133105
CREATED:20160712T220000Z
LAST-MODIFIED:20160712T220000Z
UID:10801-1514707200-1514739600@fdm-businessschool.fr
SUMMARY:2017 Student Parking Application
DESCRIPTION:Cras dapibus ullamcorper dictum. Vivamus nec erat placerat felis scelerisque porttitor in ac turpis. In nec imperdiet turpis. Suspendisse quis orci ut orci pulvinar eleifend. Nulla eu mattis ipsum. Integer eget sagittis nulla. Praesent consectetur lacus et maximus eleifend. Integer non lacus dui. Mauris tortor diam\, laoreet quis commodo vitae\, sodales vel augue.| Sed rutrum\, libero non pretium tristique\, arcu mi sollicitudin ex\, quis venenatis orci tellus vel dolor. Donec gravida\, dolor ut auctor facilisis\, enim dolor pellentesque lectus\, nec vehicula nibh risus ac leo. Mauris volutpat aliquam tellus nec rhoncus. Aliquam et nibh pulvinar\, sodales nibh et\, pretium urna. Vivamus quam augue\, maximus in consequat imperdiet\, iaculis non nibh. Aliquam erat volutpat. Curabitur venenatis massa sed lacus tristique\, non auctor nisl sodales. Sed ultricies lacus ut libero faucibus fringilla. Ut nisi tellus\, posuere vel mattis nec\, convallis a metus. Nullam elementum molestie felis nec lobortis. Cras at justo eu elit semper tempor sed quis orci. In risus magna\, malesuada vel elementum ut\, finibus et nunc. \n 
URL:https://fdm-businessschool.fr/event/2017-student-parking-application/
LOCATION:Schule\, 233 Main St.\, New York\, United States
CATEGORIES:Olympiad
ATTACH;FMTTYPE=image/jpeg:https://fdm-businessschool.fr/wp-content/uploads/2017/12/04-Copy.jpg
ORGANIZER;CN="Nick Sims":MAILTO:sims@example.com
END:VEVENT
END:VCALENDAR